BEGIN:VCALENDAR
VERSION:2.0
PRODID:-//EVU-ASSIST - ECPv6.15.20//NONSGML v1.0//EN
CALSCALE:GREGORIAN
METHOD:PUBLISH
X-WR-CALNAME:EVU-ASSIST
X-ORIGINAL-URL:https://www.evu-assist.de
X-WR-CALDESC:Veranstaltungen für EVU-ASSIST
REFRESH-INTERVAL;VALUE=DURATION:PT1H
X-Robots-Tag:noindex
X-PUBLISHED-TTL:PT1H
BEGIN:VTIMEZONE
TZID:Europe/Berlin
BEGIN:DAYLIGHT
TZOFFSETFROM:+0100
TZOFFSETTO:+0200
TZNAME:CEST
DTSTART:20250330T010000
END:DAYLIGHT
BEGIN:STANDARD
TZOFFSETFROM:+0200
TZOFFSETTO:+0100
TZNAME:CET
DTSTART:20251026T010000
END:STANDARD
BEGIN:DAYLIGHT
TZOFFSETFROM:+0100
TZOFFSETTO:+0200
TZNAME:CEST
DTSTART:20260329T010000
END:DAYLIGHT
BEGIN:STANDARD
TZOFFSETFROM:+0200
TZOFFSETTO:+0100
TZNAME:CET
DTSTART:20261025T010000
END:STANDARD
BEGIN:DAYLIGHT
TZOFFSETFROM:+0100
TZOFFSETTO:+0200
TZNAME:CEST
DTSTART:20270328T010000
END:DAYLIGHT
BEGIN:STANDARD
TZOFFSETFROM:+0200
TZOFFSETTO:+0100
TZNAME:CET
DTSTART:20271031T010000
END:STANDARD
END:VTIMEZONE
BEGIN:VEVENT
DTSTART;TZID=Europe/Berlin:20260323T100000
DTEND;TZID=Europe/Berlin:20260323T110000
DTSTAMP:20260419T230107
CREATED:20260114T082901Z
LAST-MODIFIED:20260218T063059Z
UID:10000404-1774260000-1774263600@www.evu-assist.de
SUMMARY:Die neuen Messstellenverträge – Umsetzung des Beschlusses BK6-24-125
DESCRIPTION:Zielgruppe: \nNetzbetreiber\, grundzuständige und wettbewerbliche Messstellenbetreiber\, Energieversorger\, Juristen sowie Fach- und Führungskräfte aus Regulierung\, Marktkommunikation und Vertragsmanagement. \nSeminarziel/ -inhalt:\n \nDie Energiewirtschaft steht vor der nächsten regulatorischen Weichenstellung:\nMit dem Beschluss BK6-24-125 setzt die Bundesnetzagentur neue verbindliche Maßstäbe für Messstellenverträge. \nFür Netzbetreiber\, Messstellenbetreiber und Lieferanten bedeutet das:\nVertragswerke prüfen\, anpassen und rechtssicher umsetzen. \nDoch welche konkreten Änderungen ergeben sich?\nWelche Klauseln müssen zwingend übernommen werden?\nWo bestehen Gestaltungsspielräume – und wo nicht?\nUnd wie sollte die praktische Umsetzung jetzt erfolgen? \nAGENDA \nI.  Einleitung \nII.  Allgemeiner Überblick zu den Verträgen \nIII. der Vertrag nach § 9 Abs.1 Nr.1 (MSB-AN) \nIV. der Vertrag nach § 9 Abs.1 Nr.2 (MSB-LF) \nV.  der Vertrag nach § 9 Abs.1 Nr.3 (MSB-RV) \nVI. Ihre Fragen
URL:https://www.evu-assist.de/seminar/olg-oldenburg-erklaert-keine-kosten-fuer-die-stilllegung-von-gasnetzanschluessen/
LOCATION:Webinar
CATEGORIES:Webinar
END:VEVENT
BEGIN:VEVENT
DTSTART;TZID=Europe/Berlin:20260203T100000
DTEND;TZID=Europe/Berlin:20260203T110000
DTSTAMP:20260419T230107
CREATED:20260115T073056Z
LAST-MODIFIED:20260115T073152Z
UID:10000405-1770112800-1770116400@www.evu-assist.de
SUMMARY:Wegfall des § 68 EnFG – Umlagen auf null und rückwirkende Entlastung?
DESCRIPTION:Zielgruppe: \n\nUnternehmen mit privilegierten Stromverbräuchen\nBetreiber von Wärmepumpen- oder Wasserstoffanlagen\nNetzbetreiber\nEnergieversorger sowie Rechts- und Fachabteilungen mit energierechtlichem Fokus\n\nSeminarziel/ -inhalt:\n \nEine aktuelle Gesetzesänderung bringt erhebliche finanzielle Entlastungen für bestimmte Stromverbräuche:\nDer § 68 EnFG entfällt vollständig. Damit fällt auch der beihilferechtliche Genehmigungsvorbehalt für zentrale Befreiungstatbestände des EnFG weg. \nWas bedeutet das konkret?\nDie Privilegierungen nach § 22 EnFG (elektrisch angetriebene Wärmepumpen) sowie nach §§ 25\, 26 EnFG (Herstellung von grünem Wasserstoff) können nun uneingeschränkt angewendet werden – ohne beihilferechtliche Genehmigung. \nDie Folge:\nKWKG- und Offshore-Netzumlage sind für privilegierte Netzentnahmen mit Inkrafttreten der Gesetzesänderung auf null zu reduzieren. \nBesonders brisant:\nNach Maßgabe der EuG-Rechtsprechung dürfte die Streichung des Genehmigungsvorbehalts rückwirkend bis zum 01.01.2023 wirken. Da der Gesetzgeber keine Übergangsregelung geschaffen hat\, spricht vieles dafür\, dass die Umlagereduzierungen dem Grunde nach für sämtliche seit dem 01.01.2023 entnommenen Strommengen an privilegierten Entnahmestellen zu gewähren sind. \nAGENDA \n\ndie rechtlichen Hintergründe des Wegfalls von § 68 EnFG\ndie unmittelbaren Auswirkungen auf KWKG- und Offshore-Netzumlage\ndie Voraussetzungen der Privilegierungen nach §§ 22\, 25 und 26 EnFG\npraktische Handlungsempfehlungen für Unternehmen und Netzbetreiber
URL:https://www.evu-assist.de/seminar/wegfall-des-%c2%a7-68-enfg-umlagen-auf-null-und-rueckwirkende-entlastung/
LOCATION:Webinar
CATEGORIES:Webinar
END:VEVENT
END:VCALENDAR