BEGIN:VCALENDAR
VERSION:2.0
PRODID:-//EVU-ASSIST - ECPv6.15.20//NONSGML v1.0//EN
CALSCALE:GREGORIAN
METHOD:PUBLISH
X-ORIGINAL-URL:https://www.evu-assist.de
X-WR-CALDESC:Veranstaltungen für EVU-ASSIST
REFRESH-INTERVAL;VALUE=DURATION:PT1H
X-Robots-Tag:noindex
X-PUBLISHED-TTL:PT1H
BEGIN:VTIMEZONE
TZID:Europe/Berlin
BEGIN:DAYLIGHT
TZOFFSETFROM:+0100
TZOFFSETTO:+0200
TZNAME:CEST
DTSTART:20250330T010000
END:DAYLIGHT
BEGIN:STANDARD
TZOFFSETFROM:+0200
TZOFFSETTO:+0100
TZNAME:CET
DTSTART:20251026T010000
END:STANDARD
BEGIN:DAYLIGHT
TZOFFSETFROM:+0100
TZOFFSETTO:+0200
TZNAME:CEST
DTSTART:20260329T010000
END:DAYLIGHT
BEGIN:STANDARD
TZOFFSETFROM:+0200
TZOFFSETTO:+0100
TZNAME:CET
DTSTART:20261025T010000
END:STANDARD
BEGIN:DAYLIGHT
TZOFFSETFROM:+0100
TZOFFSETTO:+0200
TZNAME:CEST
DTSTART:20270328T010000
END:DAYLIGHT
BEGIN:STANDARD
TZOFFSETFROM:+0200
TZOFFSETTO:+0100
TZNAME:CET
DTSTART:20271031T010000
END:STANDARD
END:VTIMEZONE
BEGIN:VEVENT
DTSTART;TZID=Europe/Berlin:20260609T090000
DTEND;TZID=Europe/Berlin:20260609T163000
DTSTAMP:20260422T000848
CREATED:20251120T094049Z
LAST-MODIFIED:20251202T083905Z
UID:10000380-1780995600-1781022600@www.evu-assist.de
SUMMARY:Marktkommunikation: Von den Grundlagen bis zur aktuellen Anwendung bei Strom und Gas
DESCRIPTION:Seminarziel/ -inhalt: \nDie Prozessvorgaben zur Marktkommunikation im Strom- und Gasbereich werden immer komplexer und laufen immer weiter auseinander. Nachdem der Lieferantenwechsel in 24 Stunden im Strombereich eingeführt wurde\, hat der Gesetzgeber diese Vorgabe auch für den Gasbereich erweitert. Über neue API-Schnittstellen werden nun die seit langer Zeit genutzten EDIFACT-Datenformate schrittweise ersetzt. Und als nächstes werden dann die Regeln zur Bilanzierung über eine zentrale Plattform (MaBiS-Data-Hub) weiterentwickelt. Gerade für Neueinsteiger aber auch für Führungskräfte ist das gesamte Thema der Markt-kommunikation oft unüberschaubar. Dazu sollen in diesem Webinar sowohl die Details als auch die Gesamtzusammenhänge dargestellt werden. Daher richtet sich das Webinar an alle Fach- und Führungskräfte\, die sich mit der Umsetzung der „Geschäftsprozesse Energie“ auseinandersetzen müssen. \nAGENDA \nI. Rahmenbedingungen zu den Geschäftsprozessen Strom und Gas  \n\nAktueller Stand zu den Vorgaben von Binnenmarktrichtlinie und Energiewirtschaftsgesetz (EnWG)\nFestlegungen der BNetzA zu den Geschäftsprozessen (GPKE/GeLiGas/WiM)\nFestlegungen der BNetzA zu den steuerbaren Verbrauchern (BK6-22-300)\nVorgaben zur Marktkommunikation beim Strom\nVeränderungen für den Gas-Sektor\nStand des Messstellenbetriebsgesetz (MsbG)\nDiskussion um Änderungen im Bilanzierungsablauf\n\nII. Technische Vorgaben und Vertraglicher Rahmen für Strom und Gas  \n\nNetznutzungs-/Lieferantenrahmenvertrag\nStand Messstellenbetreiberrahmenvertrag\nInformationspflichten\nRegeln zu EnergieServiceAnbieter ESA\nNeuer Regeln zu Steuerbaren Verbrauchseinrichtungen\nDatenaustausch\, Formate und Übertragungsweg\nGrundlagen des Bilanzierungs-Systems\nZählzeitdefinitionen\nUmgang mit der Markt-\, Mess- und Netzlokation\nPflichten des Netzbetreibers beim Informationsaustausch\nUnterschiede zwischen Strom und Gas\n\nIII. Technische Wirkung der intelligenten Messsysteme \n\nStand der Gateway-Festlegung\nAbrechnung Messstellenbetrieb\nStammdatenprozesse beim Einbau von iMS\nBilanzierungsvorgaben für Gateway-Nutzer\nSteuerbare Kunden nach BK6-22-300 Neues Netzentgeltsystem (Modul 3)\nInformationsprozesse zum Steuerungseingriff\n\nIV. Vertiefung von Grundlagen vor Neueinsteigende
URL:https://www.evu-assist.de/seminar/marktkommunikation-von-den-grundlagen-bis-zur-aktuellen-anwendung-bei-strom-und-gas/
LOCATION:Webinar
CATEGORIES:Webinar
END:VEVENT
END:VCALENDAR